BEGIN:VCALENDAR
VERSION:2.0
PRODID:-//ChamberMaster//Event Calendar 2.0//EN
METHOD:PUBLISH
X-PUBLISHED-TTL:P1H
REFRESH-INTERVAL:P1H
CALSCALE:GREGORIAN
BEGIN:VTIMEZONE
TZID:America/New_York
BEGIN:DAYLIGHT
RRULE:FREQ=YEARLY;BYMONTH=3;BYDAY=2SU
DTSTART:20070101T000000
TZOFFSETFROM:-0500
TZOFFSETTO:-0400
TZNAME:Eastern Daylight Time
END:DAYLIGHT
BEGIN:STANDARD
RRULE:FREQ=YEARLY;BYMONTH=11;BYDAY=1SU
DTSTART:20070101T000000
TZOFFSETFROM:-0400
TZOFFSETTO:-0500
TZNAME:Eastern Standard Time
END:STANDARD
END:VTIMEZONE
BEGIN:VEVENT
DTSTART;TZID=America/New_York:20251023T173000
DTEND;TZID=America/New_York:20251023T200000
X-MICROSOFT-CDO-ALLDAYEVENT:FALSE
SUMMARY:Annual Distinguished Citizens Dinner (Morgantown)
DESCRIPTION:🌟 Join Us in Honoring Excellence in Our Community! 🌟\n\nYou’re invited to the annual Distinguished Citizens Dinner in Morgantown\, WV as we celebrate the incredible leadership and contributions of Craig Walker of FCX Systems\, Inc. and Hope Gas.\n\n📅 Date: Thursday\, October 23\, 2025\n📍 Location: The Erickson Alumni Center\n🕠 5:30 PM: Reception & Silent Auction\n🕡 6:30 PM: Dinner & Program\n\nCome support local Scouting America programs while recognizing the amazing individuals and organizations making a difference in North Central West Virginia!\n\n🔗 https://mountaineerscouting.org/dcd/
X-ALT-DESC;FMTTYPE=text/html:🌟 Join Us in Honoring Excellence in Our Community! 🌟\n\nYou’re invited to the annual Distinguished Citizens Dinner in Morgantown\, WV as we celebrate the incredible leadership and contributions of Craig Walker of FCX Systems\, Inc. and Hope Gas.\n\n📅 Date: Thursday\, October 23\, 2025\n📍 Location: The Erickson Alumni Center\n🕠 5:30 PM: Reception & Silent Auction\n🕡 6:30 PM: Dinner & Program\n\nCome support local Scouting America programs while recognizing the amazing individuals and organizations making a difference in North Central West Virginia!\n\n🔗 https://mountaineerscouting.org/dcd/
LOCATION:1 Alumni Dr. Morgantown WV 26506
UID:e.3594.1262129
SEQUENCE:3
DTSTAMP:20260422T084317Z
URL:https://business.morgantownpartnership.com/downtownevents/Details/annual-distinguished-citizens-dinner-morgantown-1477297?sourceTypeId=Hub
END:VEVENT
END:VCALENDAR
